BEGIN:VCALENDAR
VERSION:2.0
PRODID:-//Linux User Group Sauerland - ECPv6.15.20//NONSGML v1.0//EN
CALSCALE:GREGORIAN
METHOD:PUBLISH
X-ORIGINAL-URL:https://lug-sauerland.de
X-WR-CALDESC:Veranstaltungen für Linux User Group Sauerland
REFRESH-INTERVAL;VALUE=DURATION:PT1H
X-Robots-Tag:noindex
X-PUBLISHED-TTL:PT1H
BEGIN:VTIMEZONE
TZID:Europe/Berlin
BEGIN:DAYLIGHT
TZOFFSETFROM:+0100
TZOFFSETTO:+0200
TZNAME:CEST
DTSTART:20210328T010000
END:DAYLIGHT
BEGIN:STANDARD
TZOFFSETFROM:+0200
TZOFFSETTO:+0100
TZNAME:CET
DTSTART:20211031T010000
END:STANDARD
BEGIN:DAYLIGHT
TZOFFSETFROM:+0100
TZOFFSETTO:+0200
TZNAME:CEST
DTSTART:20220327T010000
END:DAYLIGHT
BEGIN:STANDARD
TZOFFSETFROM:+0200
TZOFFSETTO:+0100
TZNAME:CET
DTSTART:20221030T010000
END:STANDARD
BEGIN:DAYLIGHT
TZOFFSETFROM:+0100
TZOFFSETTO:+0200
TZNAME:CEST
DTSTART:20230326T010000
END:DAYLIGHT
BEGIN:STANDARD
TZOFFSETFROM:+0200
TZOFFSETTO:+0100
TZNAME:CET
DTSTART:20231029T010000
END:STANDARD
END:VTIMEZONE
BEGIN:VEVENT
DTSTART;TZID=Europe/Berlin:20220601T200000
DTEND;TZID=Europe/Berlin:20220601T220000
DTSTAMP:20260425T123016
CREATED:20220601T181552Z
LAST-MODIFIED:20220605T203140Z
UID:792-1654113600-1654120800@lug-sauerland.de
SUMMARY:Virtuelles LUG Treffen
DESCRIPTION:Mit Hilfe der Online-Video-Konferenz\, wollen wir die bisher so erfolgreichen LUG-Treffen fortsetzen. Garantiert Viren-frei! Für Kaffee und Gebäck muss allerdings jeder selbst sorgen ;-). \nLink zum Meeting
URL:https://lug-sauerland.de/event/virtuelles-lug-treffen-20/
CATEGORIES:LUG-Treffen,Virtuelle Treffen
END:VEVENT
BEGIN:VEVENT
DTSTART;TZID=Europe/Berlin:20220618T140000
DTEND;TZID=Europe/Berlin:20220618T163000
DTSTAMP:20260425T123016
CREATED:20211202T134953Z
LAST-MODIFIED:20220616T151656Z
UID:734-1655560800-1655569800@lug-sauerland.de
SUMMARY:Abgesagt : LUG Treffen in Eslohe
DESCRIPTION:Ein gemütliches beisammen sitzen und Erfahrungen austauschen \nDieser Termin kurzfristig abgesagt werden.
URL:https://lug-sauerland.de/event/lug-treffen-in-eslohe-10/
LOCATION:Eslohe Dachdeckerschule\, Böttenbergstraße 20\, 59889 Eslohe (Sauerland)\, Deutschland
CATEGORIES:LUG-Treffen
END:VEVENT
END:VCALENDAR