BEGIN:VCALENDAR
VERSION:2.0
PRODID:-//Linux User Group Sauerland - ECPv6.15.20//NONSGML v1.0//EN
CALSCALE:GREGORIAN
METHOD:PUBLISH
X-WR-CALNAME:Linux User Group Sauerland
X-ORIGINAL-URL:https://lug-sauerland.de
X-WR-CALDESC:Veranstaltungen für Linux User Group Sauerland
REFRESH-INTERVAL;VALUE=DURATION:PT1H
X-Robots-Tag:noindex
X-PUBLISHED-TTL:PT1H
BEGIN:VTIMEZONE
TZID:Europe/Berlin
BEGIN:DAYLIGHT
TZOFFSETFROM:+0100
TZOFFSETTO:+0200
TZNAME:CEST
DTSTART:20210328T010000
END:DAYLIGHT
BEGIN:STANDARD
TZOFFSETFROM:+0200
TZOFFSETTO:+0100
TZNAME:CET
DTSTART:20211031T010000
END:STANDARD
BEGIN:DAYLIGHT
TZOFFSETFROM:+0100
TZOFFSETTO:+0200
TZNAME:CEST
DTSTART:20220327T010000
END:DAYLIGHT
BEGIN:STANDARD
TZOFFSETFROM:+0200
TZOFFSETTO:+0100
TZNAME:CET
DTSTART:20221030T010000
END:STANDARD
BEGIN:DAYLIGHT
TZOFFSETFROM:+0100
TZOFFSETTO:+0200
TZNAME:CEST
DTSTART:20230326T010000
END:DAYLIGHT
BEGIN:STANDARD
TZOFFSETFROM:+0200
TZOFFSETTO:+0100
TZNAME:CET
DTSTART:20231029T010000
END:STANDARD
END:VTIMEZONE
BEGIN:VEVENT
DTSTART;TZID=Europe/Berlin:20220302T200000
DTEND;TZID=Europe/Berlin:20220302T210000
DTSTAMP:20260425T173314
CREATED:20211202T140636Z
LAST-MODIFIED:20220605T203140Z
UID:746-1646251200-1646254800@lug-sauerland.de
SUMMARY:Virtuelles LUG Treffen
DESCRIPTION:Mit Hilfe der Online-Video-Konferenz\, wollen wir die bisher so erfolgreichen LUG-Treffen fortsetzen. Garantiert Viren-frei! Für Kaffee und Gebäck muss allerdings jeder selbst sorgen ;-). \nLink zum Meeting
URL:https://lug-sauerland.de/event/virtuelles-lug-treffen-17/
LOCATION:Virtuell\, Virtuell
CATEGORIES:LUG-Treffen,Virtuelle Treffen
END:VEVENT
BEGIN:VEVENT
DTSTART;TZID=Europe/Berlin:20220319T140000
DTEND;TZID=Europe/Berlin:20220319T163000
DTSTAMP:20260425T173314
CREATED:20211202T134645Z
LAST-MODIFIED:20220605T202653Z
UID:727-1647698400-1647707400@lug-sauerland.de
SUMMARY:LUG Treffen in der VHS - vermutlich in der Martin-Luther-Schule
DESCRIPTION:Ein gemütliches beisammen sitzen und Erfahrungen austauschen \nSowie unter Einhaltung der 3 G Regelung. \nG = Geimpft\,\nG = Genesen\,\nG = Getestet. \nEinen dieser Nachweise benötigen wir für das einlassen in unsere Räumlichkeiten. \nAuch kann dieser Termin kurzfristig abgesagt werden.
URL:https://lug-sauerland.de/event/lug-treffen-in-der-vhs-2/
LOCATION:VHS-Meschede-Zweigstelle\, Ruhrstraße 26\, Meschede\, NRW\, 59872\, Deutschland
CATEGORIES:LUG-Treffen
END:VEVENT
END:VCALENDAR