BEGIN:VCALENDAR
VERSION:2.0
PRODID:-//Linux User Group Sauerland - ECPv6.15.20//NONSGML v1.0//EN
CALSCALE:GREGORIAN
METHOD:PUBLISH
X-ORIGINAL-URL:https://lug-sauerland.de
X-WR-CALDESC:Veranstaltungen für Linux User Group Sauerland
REFRESH-INTERVAL;VALUE=DURATION:PT1H
X-Robots-Tag:noindex
X-PUBLISHED-TTL:PT1H
BEGIN:VTIMEZONE
TZID:Europe/Berlin
BEGIN:DAYLIGHT
TZOFFSETFROM:+0100
TZOFFSETTO:+0200
TZNAME:CEST
DTSTART:20200329T010000
END:DAYLIGHT
BEGIN:STANDARD
TZOFFSETFROM:+0200
TZOFFSETTO:+0100
TZNAME:CET
DTSTART:20201025T010000
END:STANDARD
BEGIN:DAYLIGHT
TZOFFSETFROM:+0100
TZOFFSETTO:+0200
TZNAME:CEST
DTSTART:20210328T010000
END:DAYLIGHT
BEGIN:STANDARD
TZOFFSETFROM:+0200
TZOFFSETTO:+0100
TZNAME:CET
DTSTART:20211031T010000
END:STANDARD
BEGIN:DAYLIGHT
TZOFFSETFROM:+0100
TZOFFSETTO:+0200
TZNAME:CEST
DTSTART:20220327T010000
END:DAYLIGHT
BEGIN:STANDARD
TZOFFSETFROM:+0200
TZOFFSETTO:+0100
TZNAME:CET
DTSTART:20221030T010000
END:STANDARD
END:VTIMEZONE
BEGIN:VEVENT
DTSTART;TZID=Europe/Berlin:20211113T100000
DTEND;TZID=Europe/Berlin:20211113T170000
DTSTAMP:20260426T014521
CREATED:20210903T182508Z
LAST-MODIFIED:20211110T202805Z
UID:672-1636797600-1636822800@lug-sauerland.de
SUMMARY:Linux Presentation Day 2021.2
DESCRIPTION:Hier werden wir je nach Lage einen Präsens LPD versuchen. -> AKTUELL FINDET DIESER STATT \nLinux Presentation Day 2021.2 – Weiter frei\, unabhängig und nachhaltig! \n \nSowie unter Einhaltung der 3 G Regelung. \nG = Geimpft\,\nG = Genesen\,\nG = Getestet. \nEinen dieser Nachweise benötigen wir für das einlassen in unsere Räumlichkeiten. \nAuch kann dieser Termin kurzfristig abgesagt werden.
URL:https://lug-sauerland.de/event/linux-presentation-day-2021-2/
LOCATION:VHS-Meschede-Zweigstelle\, Ruhrstraße 26\, Meschede\, NRW\, 59872\, Deutschland
END:VEVENT
END:VCALENDAR